BEGIN:VCALENDAR
VERSION:2.0
PRODID:-//ETFO Upper Grand Occasional Teachers - ECPv6.15.20//NONSGML v1.0//EN
CALSCALE:GREGORIAN
METHOD:PUBLISH
X-ORIGINAL-URL:https://ugot.org
X-WR-CALDESC:Events for ETFO Upper Grand Occasional Teachers
REFRESH-INTERVAL;VALUE=DURATION:PT1H
X-Robots-Tag:noindex
X-PUBLISHED-TTL:PT1H
BEGIN:VTIMEZONE
TZID:America/Toronto
BEGIN:DAYLIGHT
TZOFFSETFROM:-0500
TZOFFSETTO:-0400
TZNAME:EDT
DTSTART:20240310T070000
END:DAYLIGHT
BEGIN:STANDARD
TZOFFSETFROM:-0400
TZOFFSETTO:-0500
TZNAME:EST
DTSTART:20241103T060000
END:STANDARD
BEGIN:DAYLIGHT
TZOFFSETFROM:-0500
TZOFFSETTO:-0400
TZNAME:EDT
DTSTART:20250309T070000
END:DAYLIGHT
BEGIN:STANDARD
TZOFFSETFROM:-0400
TZOFFSETTO:-0500
TZNAME:EST
DTSTART:20251102T060000
END:STANDARD
BEGIN:DAYLIGHT
TZOFFSETFROM:-0500
TZOFFSETTO:-0400
TZNAME:EDT
DTSTART:20260308T070000
END:DAYLIGHT
BEGIN:STANDARD
TZOFFSETFROM:-0400
TZOFFSETTO:-0500
TZNAME:EST
DTSTART:20261101T060000
END:STANDARD
END:VTIMEZONE
BEGIN:VEVENT
DTSTART;VALUE=DATE:20250612
DTEND;VALUE=DATE:20250613
DTSTAMP:20260422T124048
CREATED:20250602T184532Z
LAST-MODIFIED:20250610T185611Z
UID:316-1749686400-1749772799@ugot.org
SUMMARY:Executive Meetings
DESCRIPTION:The Minutes of our Executive Meetings are now posted on the Members’ Only Page
URL:https://ugot.org/calendar/executive-meetings/
LOCATION:Palace De Severion Mansion\, 378 Wellington St.\, Ottawa\, Ontario\, N6D 1EE\, Canada
ATTACH;FMTTYPE=image/jpeg:https://ugot.org/wp-content/uploads/2025/06/headache.jpg
ORGANIZER;CN="Organizer 1":MAILTO:admin@severion.ca
END:VEVENT
BEGIN:VEVENT
DTSTART;VALUE=DATE:20250627
DTEND;VALUE=DATE:20250628
DTSTAMP:20260422T124048
CREATED:20250612T190324Z
LAST-MODIFIED:20250626T142425Z
UID:2527-1750982400-1751068799@ugot.org
SUMMARY:PD Day \, UGOT closed
DESCRIPTION:PD Day \, UGOT closed
URL:https://ugot.org/calendar/pd-day-ugot-closed/
END:VEVENT
END:VCALENDAR